BEGIN:VCALENDAR
VERSION:2.0
PRODID:-//Maskun Hemmingin Tyttäret ja Pojat - ECPv6.15.15//NONSGML v1.0//EN
CALSCALE:GREGORIAN
METHOD:PUBLISH
X-ORIGINAL-URL:https://maskunpartiolaiset.net
X-WR-CALDESC:Tapahtumat Maskun Hemmingin Tyttäret ja Pojat
REFRESH-INTERVAL;VALUE=DURATION:PT1H
X-Robots-Tag:noindex
X-PUBLISHED-TTL:PT1H
BEGIN:VTIMEZONE
TZID:UTC
BEGIN:STANDARD
TZOFFSETFROM:+0000
TZOFFSETTO:+0000
TZNAME:UTC
DTSTART:20170101T000000
END:STANDARD
END:VTIMEZONE
BEGIN:VEVENT
DTSTART;VALUE=DATE:20190517
DTEND;VALUE=DATE:20190519
DTSTAMP:20260419T163048
CREATED:20190323T215914Z
LAST-MODIFIED:20190323T215914Z
UID:1014-1558051200-1558223999@maskunpartiolaiset.net
SUMMARY:Päällystöpurjehdus
DESCRIPTION:Päällystöpurjehdus
URL:https://maskunpartiolaiset.net/tapahtuma/paallystopurjehdus/
END:VEVENT
BEGIN:VEVENT
DTSTART;VALUE=DATE:20181005
DTEND;VALUE=DATE:20181008
DTSTAMP:20260419T163048
CREATED:20180812T211206Z
LAST-MODIFIED:20180812T211206Z
UID:906-1538697600-1538956799@maskunpartiolaiset.net
SUMMARY:Rannikkoseudun alueen veneenohjaajakurssi
DESCRIPTION:Jerry
URL:https://maskunpartiolaiset.net/tapahtuma/rannikkoseudun-alueen-veneenohjaajakurssi/
END:VEVENT
BEGIN:VEVENT
DTSTART;VALUE=DATE:20180921
DTEND;VALUE=DATE:20180924
DTSTAMP:20260419T163048
CREATED:20180812T210856Z
LAST-MODIFIED:20180812T210856Z
UID:902-1537488000-1537747199@maskunpartiolaiset.net
SUMMARY:Archipelago Race
DESCRIPTION:Kippari: Kaitsu
URL:https://maskunpartiolaiset.net/tapahtuma/archipelago-race/
END:VEVENT
BEGIN:VEVENT
DTSTART;VALUE=DATE:20180914
DTEND;VALUE=DATE:20180917
DTSTAMP:20260419T163048
CREATED:20180812T210559Z
LAST-MODIFIED:20180812T210559Z
UID:900-1536883200-1537142399@maskunpartiolaiset.net
SUMMARY:Aikuisten VOK
DESCRIPTION:Kippari: Kaitsu
URL:https://maskunpartiolaiset.net/tapahtuma/aikuisten-vok/
END:VEVENT
BEGIN:VEVENT
DTSTART;VALUE=DATE:20180824
DTEND;VALUE=DATE:20180827
DTSTAMP:20260419T163048
CREATED:20180812T210416Z
LAST-MODIFIED:20180812T210416Z
UID:898-1535068800-1535327999@maskunpartiolaiset.net
SUMMARY:Kokoontumispurjehdus
DESCRIPTION:
URL:https://maskunpartiolaiset.net/tapahtuma/kokoontumispurjehdus/
END:VEVENT
BEGIN:VEVENT
DTSTART;VALUE=DATE:20180818
DTEND;VALUE=DATE:20180820
DTSTAMP:20260419T163048
CREATED:20180812T210136Z
LAST-MODIFIED:20180812T210222Z
UID:896-1534550400-1534723199@maskunpartiolaiset.net
SUMMARY:Viikonloppupurjehdus
DESCRIPTION:Koalat \nKippari: Kaitsu \nFörsti:
URL:https://maskunpartiolaiset.net/tapahtuma/viikonloppupurjehdus/
END:VEVENT
END:VCALENDAR