BEGIN:VCALENDAR
VERSION:2.0
PRODID:-//Maskun Hemmingin Tyttäret ja Pojat - ECPv6.15.15//NONSGML v1.0//EN
CALSCALE:GREGORIAN
METHOD:PUBLISH
X-ORIGINAL-URL:https://maskunpartiolaiset.net
X-WR-CALDESC:Tapahtumat Maskun Hemmingin Tyttäret ja Pojat
REFRESH-INTERVAL;VALUE=DURATION:PT1H
X-Robots-Tag:noindex
X-PUBLISHED-TTL:PT1H
BEGIN:VTIMEZONE
TZID:UTC
BEGIN:STANDARD
TZOFFSETFROM:+0000
TZOFFSETTO:+0000
TZNAME:UTC
DTSTART:20220101T000000
END:STANDARD
END:VTIMEZONE
BEGIN:VEVENT
DTSTART;VALUE=DATE:20230818
DTEND;VALUE=DATE:20230821
DTSTAMP:20260419T225919
CREATED:20230601T132858Z
LAST-MODIFIED:20230601T132858Z
UID:1811-1692316800-1692575999@maskunpartiolaiset.net
SUMMARY:Purjehdus 18.-20.8. (Seikkailijoiden yhdistelmäryhmä/Keskusta)
DESCRIPTION:Tapahtuman kuvaus:  Purjehdus 18.-20.8. (Seikkailijoiden yhdistelmäryhmä/Keskusta)\n \nK=\n \n F=\n \n Aika: lähtö pe klo 18:00\, ja paluu su klo 14:00 \n Lähtö- ja paluupaikka: Ajolanranta\n \n Yhteyshenkilö:\n \nIlmoittautumislinkki: https://kuksaan.fi/62471 Ilmoittautuminen päättyy 13.8. \nMuuta:  Ilmoittautuminen on auki 6.8. saakka ainoastaan Seikkailijoiden yhdistelmäryhmälle\, tämän jälkeen mikäli veneessä on vapaita paikkoja jäljellä ilmoittautuminen aukeaa kaikille lippukunnan jäsenille ja päättyy 13.8. Purjehduksen toteutuminen vaatii vähintään neljä osallistujaa. \n 
URL:https://maskunpartiolaiset.net/tapahtuma/purjehdus-18-20-8-seikkailijoiden-yhdistelmaryhma-keskusta/
END:VEVENT
END:VCALENDAR