BEGIN:VCALENDAR
VERSION:2.0
PRODID:-//Maskun Hemmingin Tyttäret ja Pojat - ECPv6.15.15//NONSGML v1.0//EN
CALSCALE:GREGORIAN
METHOD:PUBLISH
X-ORIGINAL-URL:https://maskunpartiolaiset.net
X-WR-CALDESC:Tapahtumat Maskun Hemmingin Tyttäret ja Pojat
REFRESH-INTERVAL;VALUE=DURATION:PT1H
X-Robots-Tag:noindex
X-PUBLISHED-TTL:PT1H
BEGIN:VTIMEZONE
TZID:UTC
BEGIN:STANDARD
TZOFFSETFROM:+0000
TZOFFSETTO:+0000
TZNAME:UTC
DTSTART:20220101T000000
END:STANDARD
END:VTIMEZONE
BEGIN:VEVENT
DTSTART;VALUE=DATE:20230716
DTEND;VALUE=DATE:20230719
DTSTAMP:20260420T002451
CREATED:20230601T131159Z
LAST-MODIFIED:20230601T131313Z
UID:1798-1689465600-1689724799@maskunpartiolaiset.net
SUMMARY:Purjehdus 16.-18.7. (Jäägebardit)
DESCRIPTION:Tapahtuman kuvaus: Purjehdus 16.-18.7. (Jäägebardit)\n \nK=\n \n F=\n \n Aika: lähtö su klo 18:00\, ja paluu ti klo 14:00 \n Lähtö- ja paluupaikka: Ajolanranta\n \n Yhteyshenkilö:\n \nIlmoittautumislinkki: https://kuksaan.fi/62460 Ilmoittautuminen päättyy 9.7. \nMuuta: Ilmoittautuminen on auki 2.7. saakka ainoastaan Jäägebardit-ryhmälle\, tämän jälkeen mikäli veneessä on vapaita paikkoja jäljellä ilmoittautuminen aukeaa kaikille lippukunnan jäsenille ja päättyy 9.7. Purjehduksen toteutuminen vaatii vähintään neljä osallistujaa.
URL:https://maskunpartiolaiset.net/tapahtuma/purjehdus-16-18-7-jaagebardit/
END:VEVENT
BEGIN:VEVENT
DTSTART;VALUE=DATE:20230723
DTEND;VALUE=DATE:20230726
DTSTAMP:20260420T002451
CREATED:20230601T131452Z
LAST-MODIFIED:20230601T131527Z
UID:1801-1690070400-1690329599@maskunpartiolaiset.net
SUMMARY:Purjehdus 23.-25.7. (Karhut)
DESCRIPTION:Tapahtuman kuvaus: Purjehdus 23.-25.7. (Karhut)\n \nK=\n \n F=\n \n Aika: lähtö su klo 18:00\, ja paluu ti klo 14:00 \n Lähtö- ja paluupaikka: Ajolanranta\n \n Yhteyshenkilö:\n \nIlmoittautumislinkki: https://kuksaan.fi/62467 Ilmoittautuminen päättyy 16.7. \nMuuta: Ilmoittautuminen on auki 9.7. saakka ainoastaan Karhut-ryhmälle\, tämän jälkeen mikäli veneessä on vapaita paikkoja jäljellä ilmoittautuminen aukeaa kaikille lippukunnan jäsenille ja päättyy 16.7. Purjehduksen toteutuminen vaatii vähintään neljä osallistujaa. \n 
URL:https://maskunpartiolaiset.net/tapahtuma/purjehdus-23-25-7-karhut/
END:VEVENT
BEGIN:VEVENT
DTSTART;VALUE=DATE:20230728
DTEND;VALUE=DATE:20230731
DTSTAMP:20260420T002451
CREATED:20230601T131824Z
LAST-MODIFIED:20230601T131824Z
UID:1804-1690502400-1690761599@maskunpartiolaiset.net
SUMMARY:Purjehdus 28.-30.7. (Ketut)
DESCRIPTION:Tapahtuman kuvaus:  Purjehdus 28.-30.7. (Ketut)\n \nK=\n \n F=\n \n Aika: lähtö pe klo 18:00\, ja paluu su klo 14:00 \n Lähtö- ja paluupaikka: Ajolanranta\n \n Yhteyshenkilö:\n \nIlmoittautumislinkki: https://kuksaan.fi/62468 Ilmoittautuminen päättyy 23.7. \nMuuta:Ilmoittautuminen on auki 16.7. saakka ainoastaan Ketut-ryhmälle\, tämän jälkeen mikäli veneessä on vapaita paikkoja jäljellä ilmoittautuminen aukeaa kaikille lippukunnan jäsenille ja päättyy 23.7. Purjehduksen toteutuminen vaatii vähintään neljä osallistujaa. \n 
URL:https://maskunpartiolaiset.net/tapahtuma/purjehdus-28-30-7-ketut/
END:VEVENT
BEGIN:VEVENT
DTSTART;VALUE=DATE:20230804
DTEND;VALUE=DATE:20230807
DTSTAMP:20260420T002451
CREATED:20230601T132007Z
LAST-MODIFIED:20230601T132026Z
UID:1807-1691107200-1691366399@maskunpartiolaiset.net
SUMMARY:Purjehdus 4.-6.8. (Liito-oravat)
DESCRIPTION:Tapahtuman kuvaus:  Purjehdus 4.-6.8. (Liito-oravat)\n \nK=\n \n F=\n \n Aika: lähtö pe klo 18:00\, ja paluu su klo 14:00 \n Lähtö- ja paluupaikka: Ajolanranta\n \n Yhteyshenkilö:\n \nIlmoittautumislinkki: https://kuksaan.fi/62469 Ilmoittautuminen päättyy 30.7. \nMuuta: Ilmoittautuminen on auki 23.7. saakka ainoastaan Liito-oravat -ryhmälle\, tämän jälkeen mikäli veneessä on vapaita paikkoja jäljellä ilmoittautuminen aukeaa kaikille lippukunnan jäsenille ja päättyy 30.7. Purjehduksen toteutuminen vaatii vähintään neljä osallistujaa. \n 
URL:https://maskunpartiolaiset.net/tapahtuma/purjehdus-4-6-8-liito-oravat/
END:VEVENT
BEGIN:VEVENT
DTSTART;VALUE=DATE:20230811
DTEND;VALUE=DATE:20230814
DTSTAMP:20260420T002451
CREATED:20230601T132727Z
LAST-MODIFIED:20230601T132727Z
UID:1809-1691712000-1691971199@maskunpartiolaiset.net
SUMMARY:Purjehdus 11.-13.8. (Seikkailijoiden yhdistelmäryhmä/Niemenkulma)
DESCRIPTION:Tapahtuman kuvaus:  Purjehdus 11.-13.8. (Seikkailijoiden yhdistelmäryhmä/Niemenkulma)\n \nK=\n \n F=\n \n Aika: lähtö pe klo 18:00\, ja paluu su klo 14:00 \n Lähtö- ja paluupaikka: Ajolanranta\n \n Yhteyshenkilö:\n \nIlmoittautumislinkki: https://kuksaan.fi/62470 Ilmoittautuminen päättyy 6.8. \nMuuta:  Ilmoittautuminen on auki 30.7. saakka ainoastaan Seikkailijoiden yhdistelmäryhmälle\, tämän jälkeen mikäli veneessä on vapaita paikkoja jäljellä ilmoittautuminen aukeaa kaikille lippukunnan jäsenille ja päättyy 6.8. Purjehduksen toteutuminen vaatii vähintään neljä osallistujaa. \n 
URL:https://maskunpartiolaiset.net/tapahtuma/purjehdus-11-13-8-seikkailijoiden-yhdistelmaryhma-niemenkulma/
END:VEVENT
BEGIN:VEVENT
DTSTART;VALUE=DATE:20230818
DTEND;VALUE=DATE:20230821
DTSTAMP:20260420T002451
CREATED:20230601T132858Z
LAST-MODIFIED:20230601T132858Z
UID:1811-1692316800-1692575999@maskunpartiolaiset.net
SUMMARY:Purjehdus 18.-20.8. (Seikkailijoiden yhdistelmäryhmä/Keskusta)
DESCRIPTION:Tapahtuman kuvaus:  Purjehdus 18.-20.8. (Seikkailijoiden yhdistelmäryhmä/Keskusta)\n \nK=\n \n F=\n \n Aika: lähtö pe klo 18:00\, ja paluu su klo 14:00 \n Lähtö- ja paluupaikka: Ajolanranta\n \n Yhteyshenkilö:\n \nIlmoittautumislinkki: https://kuksaan.fi/62471 Ilmoittautuminen päättyy 13.8. \nMuuta:  Ilmoittautuminen on auki 6.8. saakka ainoastaan Seikkailijoiden yhdistelmäryhmälle\, tämän jälkeen mikäli veneessä on vapaita paikkoja jäljellä ilmoittautuminen aukeaa kaikille lippukunnan jäsenille ja päättyy 13.8. Purjehduksen toteutuminen vaatii vähintään neljä osallistujaa. \n 
URL:https://maskunpartiolaiset.net/tapahtuma/purjehdus-18-20-8-seikkailijoiden-yhdistelmaryhma-keskusta/
END:VEVENT
END:VCALENDAR