BEGIN:VCALENDAR
VERSION:2.0
PRODID:-//Maskun Hemmingin Tyttäret ja Pojat - ECPv6.15.15//NONSGML v1.0//EN
CALSCALE:GREGORIAN
METHOD:PUBLISH
X-WR-CALNAME:Maskun Hemmingin Tyttäret ja Pojat
X-ORIGINAL-URL:https://maskunpartiolaiset.net
X-WR-CALDESC:Tapahtumat Maskun Hemmingin Tyttäret ja Pojat
REFRESH-INTERVAL;VALUE=DURATION:PT1H
X-Robots-Tag:noindex
X-PUBLISHED-TTL:PT1H
BEGIN:VTIMEZONE
TZID:UTC
BEGIN:STANDARD
TZOFFSETFROM:+0000
TZOFFSETTO:+0000
TZNAME:UTC
DTSTART:20210101T000000
END:STANDARD
END:VTIMEZONE
BEGIN:VEVENT
DTSTART;VALUE=DATE:20220805
DTEND;VALUE=DATE:20220808
DTSTAMP:20260419T123324
CREATED:20220628T135534Z
LAST-MODIFIED:20220628T144606Z
UID:1671-1659657600-1659916799@maskunpartiolaiset.net
SUMMARY:Viikonloppupurjehdus
DESCRIPTION:Tapahtuman kuvaus: Viikonloppupurjehdus 5.-7.8.\n \nK=\n \n F=\n \n Aika: lähtö pe klo 18:30\, ja paluu su klo 14:00 \n Lähtö- ja paluupaikka: Ajolanranta\n \n Yhteyshenkilö:\n \nIlmoittautumislinkki: https://kuksaan.fi/52489 Ilmoittautuminen päättyy 31.7. \nMuuta: Avoin viikonloppupurjehdus kaikille lippukunnan Seikkailijoille\, Tarpojille\, Samoajille\, Vaeltajille ja Aikuisille
URL:https://maskunpartiolaiset.net/tapahtuma/viikonloppupurjehdus-4/
END:VEVENT
BEGIN:VEVENT
DTSTART;VALUE=DATE:20220813
DTEND;VALUE=DATE:20220814
DTSTAMP:20260419T123324
CREATED:20220628T135622Z
LAST-MODIFIED:20220713T195002Z
UID:1673-1660348800-1660435199@maskunpartiolaiset.net
SUMMARY:Perhepartion päiväpurjehdus
DESCRIPTION:Tapahtuman kuvaus: Perhepartion päiväpurjehdus 13.8.\n \nK= Henna Oksa\n \n F= Sara Kannisto\n \n Aika: lähtö la klo 13:00\, ja paluu la klo 16:00 \n Lähtö- ja paluupaikka: Ajolanranta\n \n Yhteyshenkilö: Henna Oksa (050 5950780)\n \nIlmoittautumislinkki: https://kuksaan.fi/52579 Ilmoittautuminen päättyy 7.8. \nMuuta: Avoin perhepartiolaisille
URL:https://maskunpartiolaiset.net/tapahtuma/viikonloppupurjehdus-5/
END:VEVENT
BEGIN:VEVENT
DTSTART;VALUE=DATE:20220813
DTEND;VALUE=DATE:20220815
DTSTAMP:20260419T123324
CREATED:20220713T140044Z
LAST-MODIFIED:20220713T194937Z
UID:1702-1660348800-1660521599@maskunpartiolaiset.net
SUMMARY:Aikuispartion & Johtajiston viikonloppupurjehdus
DESCRIPTION:Tapahtuman kuvaus: Aikuispartion & Johtajiston viikonloppupurjehdus 13.-14.8.\n \nK= Henna Oksa\n \n F= Suvi Malinen\n \n Aika: lähtö la klo 16:30\, ja paluu su klo 16:00 \n Lähtö- ja paluupaikka: Ajolanranta\n \n Yhteyshenkilö: Henna Oksa (050 5950780)\n \nIlmoittautumislinkki: https://kuksaan.fi/52580 Ilmoittautuminen päättyy 18.9. \nMuuta: Avoin viikonloppupurjehdus kaikille lippukunnan Vaeltajille ja Aikuisille
URL:https://maskunpartiolaiset.net/tapahtuma/aikuispartion-johtajiston-viikonloppupurjehdus/
END:VEVENT
BEGIN:VEVENT
DTSTART;VALUE=DATE:20220819
DTEND;VALUE=DATE:20220822
DTSTAMP:20260419T123324
CREATED:20220628T135721Z
LAST-MODIFIED:20220628T144758Z
UID:1675-1660867200-1661126399@maskunpartiolaiset.net
SUMMARY:Viikonloppupurjehdus
DESCRIPTION:Tapahtuman kuvaus: Viikonloppupurjehdus 19.-21.8.\n \nK=\n \n F=\n \n Aika: lähtö pe klo 18:30\, ja paluu su klo 14:00 \n Lähtö- ja paluupaikka: Ajolanranta\n \n Yhteyshenkilö:\n \nIlmoittautumislinkki: https://kuksaan.fi/52491 Ilmoittautuminen päättyy 14.8. \nMuuta: Avoin viikonloppupurjehdus kaikille lippukunnan Seikkailijoille\, Tarpojille\, Samoajille\, Vaeltajille ja Aikuisille
URL:https://maskunpartiolaiset.net/tapahtuma/viikonloppupurjehdus-6/
END:VEVENT
BEGIN:VEVENT
DTSTART;VALUE=DATE:20220826
DTEND;VALUE=DATE:20220829
DTSTAMP:20260419T123324
CREATED:20220628T140019Z
LAST-MODIFIED:20220628T144838Z
UID:1677-1661472000-1661731199@maskunpartiolaiset.net
SUMMARY:Viikonloppupurjehdus
DESCRIPTION:Tapahtuman kuvaus: Viikonloppupurjehdus 26.-28.8. (Piirin kokoontumispurjehdus)\n \nK=\n \n F=\n \n Aika: lähtö pe klo 18:30\, ja paluu su klo 14:00 \n Lähtö- ja paluupaikka: Ajolanranta\n \n Yhteyshenkilö:\n \nIlmoittautumislinkki: https://kuksaan.fi/52492 Ilmoittautuminen päättyy 21.7. \nMuuta: Avoin viikonloppupurjehdus kaikille lippukunnan Seikkailijoille\, Tarpojille\, Samoajille\, Vaeltajille ja Aikuisille
URL:https://maskunpartiolaiset.net/tapahtuma/viikonloppupurjehdus-7/
END:VEVENT
END:VCALENDAR