BEGIN:VCALENDAR
VERSION:2.0
PRODID:-//Maskun Hemmingin Tyttäret ja Pojat - ECPv6.15.15//NONSGML v1.0//EN
CALSCALE:GREGORIAN
METHOD:PUBLISH
X-WR-CALNAME:Maskun Hemmingin Tyttäret ja Pojat
X-ORIGINAL-URL:https://maskunpartiolaiset.net
X-WR-CALDESC:Tapahtumat Maskun Hemmingin Tyttäret ja Pojat
REFRESH-INTERVAL;VALUE=DURATION:PT1H
X-Robots-Tag:noindex
X-PUBLISHED-TTL:PT1H
BEGIN:VTIMEZONE
TZID:UTC
BEGIN:STANDARD
TZOFFSETFROM:+0000
TZOFFSETTO:+0000
TZNAME:UTC
DTSTART:20200101T000000
END:STANDARD
END:VTIMEZONE
BEGIN:VEVENT
DTSTART;VALUE=DATE:20210910
DTEND;VALUE=DATE:20210913
DTSTAMP:20260420T072923
CREATED:20210602T110723Z
LAST-MODIFIED:20210723T180614Z
UID:1511-1631232000-1631491199@maskunpartiolaiset.net
SUMMARY:Sudet viikonloppupurjehdus
DESCRIPTION:Tapahtuman kuvaus: Sudet viikonloppupurjehdus\n \nK= Jerry\n \n F= \n Aika: 10.-12.9.2021\, lähtö pe klo 18:30\, ja paluu su klo 14:00\n \n Lähtö- ja paluupaikka: Ajolanranta\n \n Yhteyshenkilö: Jerry Jämsen\, 050 4300892\n \nIlmoittautumislinkki: https://kuksaan.fi/43336 \nMuuta:
URL:https://maskunpartiolaiset.net/tapahtuma/vapaa-viikonloppupurjehdus-23/
END:VEVENT
END:VCALENDAR