BEGIN:VCALENDAR
VERSION:2.0
PRODID:-//Maskun Hemmingin Tyttäret ja Pojat - ECPv6.15.15//NONSGML v1.0//EN
CALSCALE:GREGORIAN
METHOD:PUBLISH
X-WR-CALNAME:Maskun Hemmingin Tyttäret ja Pojat
X-ORIGINAL-URL:https://maskunpartiolaiset.net
X-WR-CALDESC:Tapahtumat Maskun Hemmingin Tyttäret ja Pojat
REFRESH-INTERVAL;VALUE=DURATION:PT1H
X-Robots-Tag:noindex
X-PUBLISHED-TTL:PT1H
BEGIN:VTIMEZONE
TZID:UTC
BEGIN:STANDARD
TZOFFSETFROM:+0000
TZOFFSETTO:+0000
TZNAME:UTC
DTSTART:20200101T000000
END:STANDARD
END:VTIMEZONE
BEGIN:VEVENT
DTSTART;VALUE=DATE:20210903
DTEND;VALUE=DATE:20210906
DTSTAMP:20260420T072910
CREATED:20210602T110628Z
LAST-MODIFIED:20210602T110628Z
UID:1509-1630627200-1630886399@maskunpartiolaiset.net
SUMMARY:Viikonloppupurjehdus/VOK
DESCRIPTION:Tapahtuman kuvaus: Viikonloppupurjehdus/VOK\n \nK= \n F= \n Aika: \n Lähtö- ja paluupaikka: \n Yhteyshenkilö: \nIlmoittautumislinkki: \nMuuta:
URL:https://maskunpartiolaiset.net/tapahtuma/viikonloppupurjehdus-vok/
END:VEVENT
END:VCALENDAR