BEGIN:VCALENDAR
VERSION:2.0
PRODID:-//Maskun Hemmingin Tyttäret ja Pojat - ECPv6.15.15//NONSGML v1.0//EN
CALSCALE:GREGORIAN
METHOD:PUBLISH
X-WR-CALNAME:Maskun Hemmingin Tyttäret ja Pojat
X-ORIGINAL-URL:https://maskunpartiolaiset.net
X-WR-CALDESC:Tapahtumat Maskun Hemmingin Tyttäret ja Pojat
REFRESH-INTERVAL;VALUE=DURATION:PT1H
X-Robots-Tag:noindex
X-PUBLISHED-TTL:PT1H
BEGIN:VTIMEZONE
TZID:UTC
BEGIN:STANDARD
TZOFFSETFROM:+0000
TZOFFSETTO:+0000
TZNAME:UTC
DTSTART:20200101T000000
END:STANDARD
END:VTIMEZONE
BEGIN:VEVENT
DTSTART;VALUE=DATE:20210818
DTEND;VALUE=DATE:20210819
DTSTAMP:20260422T081303
CREATED:20210529T153515Z
LAST-MODIFIED:20210723T165215Z
UID:1475-1629244800-1629331199@maskunpartiolaiset.net
SUMMARY:Kaunisniemen iltapurjehdus
DESCRIPTION:Tapahtuman kuvaus: Kaunisniemen iltapurjehdus\n \n Aika: 18.08.2021\, klo. 18:00-20:30\n \n Yhteyshenkilö: Ossi Pahikkala p. 044 3737279\n \nIlmoittautumislinkki: www.kuksaan.fi/42628 \nMuuta: Kaikille ikäkausille sudenpennuista vaeltajiin
URL:https://maskunpartiolaiset.net/tapahtuma/kaunisniemen-iltapurjehdus-11/
END:VEVENT
END:VCALENDAR