BEGIN:VCALENDAR
VERSION:2.0
PRODID:-//Maskun Hemmingin Tyttäret ja Pojat - ECPv6.15.15//NONSGML v1.0//EN
CALSCALE:GREGORIAN
METHOD:PUBLISH
X-WR-CALNAME:Maskun Hemmingin Tyttäret ja Pojat
X-ORIGINAL-URL:https://maskunpartiolaiset.net
X-WR-CALDESC:Tapahtumat Maskun Hemmingin Tyttäret ja Pojat
REFRESH-INTERVAL;VALUE=DURATION:PT1H
X-Robots-Tag:noindex
X-PUBLISHED-TTL:PT1H
BEGIN:VTIMEZONE
TZID:UTC
BEGIN:STANDARD
TZOFFSETFROM:+0000
TZOFFSETTO:+0000
TZNAME:UTC
DTSTART:20200101T000000
END:STANDARD
END:VTIMEZONE
BEGIN:VEVENT
DTSTART;VALUE=DATE:20210806
DTEND;VALUE=DATE:20210809
DTSTAMP:20260422T081917
CREATED:20210602T105911Z
LAST-MODIFIED:20210805T170931Z
UID:1500-1628208000-1628467199@maskunpartiolaiset.net
SUMMARY:Jäägebardit viikonloppupurjehdus
DESCRIPTION:Tapahtuman kuvaus: Jäägebardit viikonloppupurjehdus\n \nK= Kaitsu\n \n F= \n Aika: 6.-8.8.2021\, lähtö pe klo 18:30\, ja paluu su klo 14:00\n \n Lähtö- ja paluupaikka: Ajolanranta\n \n Yhteyshenkilö: Kai Sinkkonen 0400 785128\n \nIlmoittautumislinkki: https://kuksaan.fi/43332 \nMuuta:
URL:https://maskunpartiolaiset.net/tapahtuma/vapaa-viikonloppupurjehdus-19/
END:VEVENT
END:VCALENDAR