BEGIN:VCALENDAR
VERSION:2.0
PRODID:-//Maskun Hemmingin Tyttäret ja Pojat - ECPv6.15.15//NONSGML v1.0//EN
CALSCALE:GREGORIAN
METHOD:PUBLISH
X-ORIGINAL-URL:https://maskunpartiolaiset.net
X-WR-CALDESC:Tapahtumat Maskun Hemmingin Tyttäret ja Pojat
REFRESH-INTERVAL;VALUE=DURATION:PT1H
X-Robots-Tag:noindex
X-PUBLISHED-TTL:PT1H
BEGIN:VTIMEZONE
TZID:UTC
BEGIN:STANDARD
TZOFFSETFROM:+0000
TZOFFSETTO:+0000
TZNAME:UTC
DTSTART:20200101T000000
END:STANDARD
END:VTIMEZONE
BEGIN:VEVENT
DTSTART;VALUE=DATE:20210721
DTEND;VALUE=DATE:20210722
DTSTAMP:20260422T094359
CREATED:20210529T153402Z
LAST-MODIFIED:20210719T093401Z
UID:1471-1626825600-1626911999@maskunpartiolaiset.net
SUMMARY:*PERUTTU* Kaunisniemen iltapurjehdus *PERUTTU*
DESCRIPTION:Tapahtuman kuvaus: *PERUTTU* Kaunisniemen iltapurjehdus\n \n Aika: 21.07.2021\, klo. 18:00-20:30\n \n Yhteyshenkilö: Ossi Pahikkala\n \nIlmoittautumislinkki: www.kuksaan.fi/42626 \nMuuta: Kaikille ikäkausille sudenpennuista vaeltajiin
URL:https://maskunpartiolaiset.net/tapahtuma/kaunisniemen-iltapurjehdus-9/
END:VEVENT
END:VCALENDAR