BEGIN:VCALENDAR
VERSION:2.0
PRODID:-//Maskun Hemmingin Tyttäret ja Pojat - ECPv6.15.15//NONSGML v1.0//EN
CALSCALE:GREGORIAN
METHOD:PUBLISH
X-ORIGINAL-URL:https://maskunpartiolaiset.net
X-WR-CALDESC:Tapahtumat Maskun Hemmingin Tyttäret ja Pojat
REFRESH-INTERVAL;VALUE=DURATION:PT1H
X-Robots-Tag:noindex
X-PUBLISHED-TTL:PT1H
BEGIN:VTIMEZONE
TZID:UTC
BEGIN:STANDARD
TZOFFSETFROM:+0000
TZOFFSETTO:+0000
TZNAME:UTC
DTSTART:20200101T000000
END:STANDARD
END:VTIMEZONE
BEGIN:VEVENT
DTSTART;VALUE=DATE:20210620
DTEND;VALUE=DATE:20210621
DTSTAMP:20260422T110317
CREATED:20210602T105734Z
LAST-MODIFIED:20210618T141634Z
UID:1494-1624147200-1624233599@maskunpartiolaiset.net
SUMMARY:Päiväpurjehdus Seikkailija-Vaeltaja -ikäkausille
DESCRIPTION:Tapahtuman kuvaus: Päiväpurjehdus Seikkailija-Vaeltaja -ikäkausille\n \nK= Jerry\n \n F= \n Aika: Lähtö klo 09:00 – Paluu klo 17:00\n \n Lähtö- ja paluupaikka: Ajolanranta\n \n Yhteyshenkilö: Jerry Jämsen\, 050 4300892\n \nIlmoittautumislinkki: http://www.kuksaan.fi/42982 \nMuuta: Seikkailija-Vaeltaja -ikäkausille\, ensimmäiset 8 mahtuu mukaan.
URL:https://maskunpartiolaiset.net/tapahtuma/vapaa-viikonloppupurjehdus-16/
END:VEVENT
END:VCALENDAR