BEGIN:VCALENDAR
VERSION:2.0
PRODID:-//Maskun Hemmingin Tyttäret ja Pojat - ECPv6.15.15//NONSGML v1.0//EN
CALSCALE:GREGORIAN
METHOD:PUBLISH
X-ORIGINAL-URL:https://maskunpartiolaiset.net
X-WR-CALDESC:Tapahtumat Maskun Hemmingin Tyttäret ja Pojat
REFRESH-INTERVAL;VALUE=DURATION:PT1H
X-Robots-Tag:noindex
X-PUBLISHED-TTL:PT1H
BEGIN:VTIMEZONE
TZID:UTC
BEGIN:STANDARD
TZOFFSETFROM:+0000
TZOFFSETTO:+0000
TZNAME:UTC
DTSTART:20200101T000000
END:STANDARD
END:VTIMEZONE
BEGIN:VEVENT
DTSTART;VALUE=DATE:20210609
DTEND;VALUE=DATE:20210610
DTSTAMP:20260422T110422
CREATED:20210529T153156Z
LAST-MODIFIED:20210529T165246Z
UID:1464-1623196800-1623283199@maskunpartiolaiset.net
SUMMARY:Kaunisniemen iltapurjehdus
DESCRIPTION:Tapahtuman kuvaus: Kaunisniemen iltapurjehdus\n \n Aika: 09.06.2021\, klo. 18:00-20:30\n \n Yhteyshenkilö: Jerry Jämsén\n \nIlmoittautumislinkki: www.kuksaan.fi/42622 \nMuuta: Kaikille ikäkausille sudenpennuista vaeltajiin
URL:https://maskunpartiolaiset.net/tapahtuma/kaunisniemen-iltapurjehdus-6/
END:VEVENT
END:VCALENDAR